BEGIN:VCALENDAR
VERSION:2.0
PRODID:SchoolNow
CALSCALE:GREGORIAN
BEGIN:VEVENT
UID:8b9a8f3c-93e2-11f0-9df1-0a58a9feac02
DTSTAMP:20250917T162246Z
SUMMARY:CDD Board Meeting - Sept. 2026
LOCATION:The offices of Coastal Engineering\, 966 Candlelight Blvd\, Brooks
 ville\, FL 34601
URL;VALUE=URI:https://www.lakehideaway2cdd.com/calendar/8632946/cdd-board-m
 eeting-sept-2026
DTSTART:20260918T170000Z
DTEND:20260918T180000Z
END:VEVENT
END:VCALENDAR
