BEGIN:VCALENDAR
VERSION:2.0
PRODID:SchoolNow
CALSCALE:GREGORIAN
BEGIN:VEVENT
UID:83a56c16-93e2-11f0-bf8f-0a58a9feac02
DTSTAMP:20250917T162232Z
SUMMARY:CDD Board Meeting - Aug 2026
LOCATION:The offices of Coastal Engineering\, 966 Candlelight Blvd\, Brooks
 ville\, FL 34601
URL;VALUE=URI:https://www.lakehideaway2cdd.com/calendar/8632945/cdd-board-m
 eeting-aug-2026
DTSTART:20260821T170000Z
DTEND:20260821T180000Z
END:VEVENT
END:VCALENDAR
