BEGIN:VCALENDAR
VERSION:2.0
PRODID:SchoolNow
CALSCALE:GREGORIAN
BEGIN:VEVENT
UID:7b6dfafe-93e2-11f0-851b-0a58a9feac02
DTSTAMP:20250917T162219Z
SUMMARY:CDD Board Meeting - Jul. 2026
LOCATION:The offices of Coastal Engineering\, 966 Candlelight Blvd\, Brooks
 ville\, FL 34601
URL;VALUE=URI:https://www.lakehideaway2cdd.com/calendar/8632944/cdd-board-m
 eeting-jul-2026
DTSTART:20260717T170000Z
DTEND:20260717T180000Z
END:VEVENT
END:VCALENDAR
