BEGIN:VCALENDAR
VERSION:2.0
PRODID:SchoolNow
CALSCALE:GREGORIAN
BEGIN:VEVENT
UID:72f1d53a-93e2-11f0-bd05-0e3e0f5850df
DTSTAMP:20250917T162204Z
SUMMARY:CDD Board Meeting - Jun. 2026
LOCATION:The offices of Coastal Engineering\, 966 Candlelight Blvd\, Brooks
 ville\, FL 34601
URL;VALUE=URI:https://www.lakehideaway2cdd.com/calendar/8632943/cdd-board-m
 eeting-jun-2026
DTSTART:20260619T170000Z
DTEND:20260619T180000Z
END:VEVENT
END:VCALENDAR
