BEGIN:VCALENDAR
VERSION:2.0
PRODID:SchoolNow
CALSCALE:GREGORIAN
BEGIN:VEVENT
UID:6a719148-93e2-11f0-beaf-0a58a9feac02
DTSTAMP:20250917T162150Z
SUMMARY:CDD Board Meeting - May 2026
LOCATION:The offices of Coastal Engineering\, 966 Candlelight Blvd\, Brooks
 ville\, FL 34601
URL;VALUE=URI:https://www.lakehideaway2cdd.com/calendar/8632942/cdd-board-m
 eeting-may-2026
DTSTART:20260515T170000Z
DTEND:20260515T180000Z
END:VEVENT
END:VCALENDAR
