BEGIN:VCALENDAR
VERSION:2.0
PRODID:SchoolNow
CALSCALE:GREGORIAN
BEGIN:VEVENT
UID:5a02acfc-93e2-11f0-a2ee-0a58a9feac02
DTSTAMP:20260313T222644Z
SUMMARY:CDD Board Meeting - Mar. 2026
LOCATION:The offices of Coastal Engineering\, 966 Candlelight Blvd\, Brooks
 ville\, FL 34601
URL;VALUE=URI:https://www.lakehideaway2cdd.com/calendar/8632940/cdd-board-m
 eeting-mar-2026
DTSTART:20260320T170000Z
DTEND:20260320T180000Z
ATTACH;FILENAME=2026-03-20 Lake Hideaway II CDD Agenda.pdf;FMTTYPE=applicat
 ion/pdf:https://campussuite-storage.s3.amazonaws.com/prod/1559256/323d6aaa
 -10ba-11f0-9102-0affc1c2bc9d/3079835/b2365b92-1f2b-11f1-a39b-0a58a9feac02/
 file/2026-03-20 Lake Hideaway II CDD Agenda.pdf
END:VEVENT
END:VCALENDAR
