BEGIN:VCALENDAR
VERSION:2.0
PRODID:SchoolNow
CALSCALE:GREGORIAN
BEGIN:VEVENT
UID:51ae5056-93e2-11f0-9e7c-0e95b99e68a1
DTSTAMP:20260219T170209Z
SUMMARY:CDD Board Meeting - Feb. 2026 (Canceled)
LOCATION:The offices of Coastal Engineering\, 966 Candlelight Blvd\, Brooks
 ville\, FL 34601
URL;VALUE=URI:https://www.lakehideaway2cdd.com/calendar/8632939/cdd-board-m
 eeting-feb-2026
DTSTART:20260220T180000Z
DTEND:20260220T190000Z
ATTACH;FILENAME=2026-02-20 Lake Hideaway II CDD Agenda.pdf;FMTTYPE=applicat
 ion/pdf:https://campussuite-storage.s3.amazonaws.com/prod/1559256/323d6aaa
 -10ba-11f0-9102-0affc1c2bc9d/3070858/87b44158-091f-11f1-9b2e-0e2a2a433083/
 file/2026-02-20 Lake Hideaway II CDD Agenda.pdf
END:VEVENT
END:VCALENDAR
