BEGIN:VCALENDAR
VERSION:2.0
PRODID:SchoolNow
CALSCALE:GREGORIAN
BEGIN:VEVENT
UID:4911151e-93e2-11f0-a04f-0a58a9feac02
DTSTAMP:20260112T180827Z
SUMMARY:CDD Board Meeting - Jan. 2026 (Canceled)
LOCATION:The offices of Coastal Engineering\, 966 Candlelight Blvd\, Brooks
 ville\, FL 34601
URL;VALUE=URI:https://www.lakehideaway2cdd.com/calendar/8632938/cdd-board-m
 eeting-jan-2026
DTSTART:20260116T180000Z
DTEND:20260116T190000Z
ATTACH;FILENAME=2026-01-16 Lake Hideaway II CDD Agenda.pdf;FMTTYPE=applicat
 ion/pdf:https://campussuite-storage.s3.amazonaws.com/prod/1559256/323d6aaa
 -10ba-11f0-9102-0affc1c2bc9d/3058855/bf664b1c-ed8d-11f0-88a9-02f272ecca87/
 file/2026-01-16 Lake Hideaway II CDD Agenda.pdf
END:VEVENT
END:VCALENDAR
