BEGIN:VCALENDAR
VERSION:2.0
PRODID:SchoolNow
CALSCALE:GREGORIAN
BEGIN:VEVENT
UID:37e59008-93e2-11f0-974e-0efaca80e931
DTSTAMP:20251118T190951Z
SUMMARY:CDD Board Meeting - Nov. 2025 (Canceled)
LOCATION:The offices of Coastal Engineering\, 966 Candlelight Blvd\, Brooks
 ville\, FL 34601
URL;VALUE=URI:https://www.lakehideaway2cdd.com/calendar/8632936/cdd-board-m
 eeting-nov-2025
DTSTART:20251121T180000Z
DTEND:20251121T190000Z
ATTACH;FILENAME=2025-11-21 Lake Hideaway II CDD Agenda.pdf;FMTTYPE=applicat
 ion/pdf:https://campussuite-storage.s3.amazonaws.com/prod/1559256/323d6aaa
 -10ba-11f0-9102-0affc1c2bc9d/3039119/81ba3df4-c1a6-11f0-a5c7-0e51efc2a261/
 file/2025-11-21 Lake Hideaway II CDD Agenda.pdf
END:VEVENT
END:VCALENDAR
