BEGIN:VCALENDAR
VERSION:2.0
PRODID:SchoolNow
CALSCALE:GREGORIAN
BEGIN:VEVENT
UID:2ed88e2a-93e2-11f0-bf5f-02795e4934c3
DTSTAMP:20251010T170703Z
SUMMARY:CDD Board Meeting - Oct. 2025 (Canceled)
LOCATION:The offices of Coastal Engineering\, 966 Candlelight Blvd\, Brooks
 ville\, FL 34601
URL;VALUE=URI:https://www.lakehideaway2cdd.com/calendar/8632935/cdd-board-m
 eeting-oct-2025
DTSTART:20251017T170000Z
DTEND:20251017T180000Z
END:VEVENT
END:VCALENDAR
