BEGIN:VCALENDAR
VERSION:2.0
PRODID:SchoolNow
CALSCALE:GREGORIAN
BEGIN:VEVENT
UID:85bca96a-1944-11f0-9695-0e6aff25778b
DTSTAMP:20250912T204857Z
SUMMARY:CDD Board Meeting - Sept. 2025 (Canceled)
LOCATION:The offices of Coastal Engineering\, 966 Candlelight Blvd\, Brooks
 ville\, FL 34601
URL;VALUE=URI:https://www.lakehideaway2cdd.com/calendar/7922579/cdd-board-m
 eeting-sept-2025
DTSTART:20250919T170000Z
DTEND:20250919T180000Z
ATTACH;FILENAME=2025-09-19 Lake Hideaway II CDD Agenda.pdf;FMTTYPE=applicat
 ion/pdf:https://campussuite-storage.s3.amazonaws.com/prod/1559256/323d6aaa
 -10ba-11f0-9102-0affc1c2bc9d/3006760/8ddf1446-900b-11f0-818c-02f028a35363/
 file/2025-09-19 Lake Hideaway II CDD Agenda.pdf
END:VEVENT
END:VCALENDAR
