BEGIN:VCALENDAR
VERSION:2.0
PRODID:SchoolNow
CALSCALE:GREGORIAN
BEGIN:VEVENT
UID:71f03244-1944-11f0-acfb-0a58a9feac02
DTSTAMP:20250808T194657Z
SUMMARY:CDD Board Meeting - Aug. 2025
LOCATION:The offices of Coastal Engineering\, 966 Candlelight Blvd\, Brooks
 ville\, FL 34601
URL;VALUE=URI:https://www.lakehideaway2cdd.com/calendar/7922578/cdd-board-m
 eeting-aug-2025
DTSTART:20250815T170000Z
DTEND:20250815T180000Z
ATTACH;FILENAME=2025-08-15 Lake Hideaway II CDD Agenda.pdf;FMTTYPE=applicat
 ion/pdf:https://campussuite-storage.s3.amazonaws.com/prod/1559256/323d6aaa
 -10ba-11f0-9102-0affc1c2bc9d/2990323/694ea308-7490-11f0-a1ca-0e05a2fca2ed/
 file/2025-08-15 Lake Hideaway II CDD Agenda.pdf
END:VEVENT
END:VCALENDAR
