BEGIN:VCALENDAR
VERSION:2.0
PRODID:SchoolNow
CALSCALE:GREGORIAN
BEGIN:VEVENT
UID:5ac2b47a-1944-11f0-8205-0a58a9feac02
DTSTAMP:20250715T224141Z
SUMMARY:CDD Board Meeting - Jul. 2025 (Canceled)
LOCATION:The offices of Coastal Engineering\, 966 Candlelight Blvd\, Brooks
 ville\, FL 34601
URL;VALUE=URI:https://www.lakehideaway2cdd.com/calendar/7922577/cdd-board-m
 eeting-jul-2025
DTSTART:20250718T170000Z
DTEND:20250718T180000Z
ATTACH;FILENAME=2025-07-18 Lake Hideaway II CDD Agenda.pdf;FMTTYPE=applicat
 ion/pdf:https://campussuite-storage.s3.amazonaws.com/prod/1559256/323d6aaa
 -10ba-11f0-9102-0affc1c2bc9d/2980862/5d32ab44-5e94-11f0-b24a-0a58a9feac02/
 file/2025-07-18 Lake Hideaway II CDD Agenda.pdf
END:VEVENT
END:VCALENDAR
