BEGIN:VCALENDAR
VERSION:2.0
PRODID:SchoolNow
CALSCALE:GREGORIAN
BEGIN:VEVENT
UID:48f08934-1944-11f0-8a7b-0a58a9feac02
DTSTAMP:20250618T154808Z
SUMMARY:CDD Board Meeting - Jun. 2025 (Canceled)
LOCATION:The offices of Coastal Engineering\, 966 Candlelight Blvd\, Brooks
 ville\, FL 34601
URL;VALUE=URI:https://www.lakehideaway2cdd.com/calendar/7922576/cdd-board-m
 eeting-jun-2025
DTSTART:20250620T170000Z
DTEND:20250620T180000Z
ATTACH;FILENAME=2025-06-20 Lake Hideaway II CDD Agenda.pdf;FMTTYPE=applicat
 ion/pdf:https://campussuite-storage.s3.amazonaws.com/prod/1559256/323d6aaa
 -10ba-11f0-9102-0affc1c2bc9d/2969128/44b75cee-488d-11f0-922f-0affe11e2879/
 file/2025-06-20 Lake Hideaway II CDD Agenda.pdf
END:VEVENT
END:VCALENDAR
