BEGIN:VCALENDAR
VERSION:2.0
PRODID:SchoolNow
CALSCALE:GREGORIAN
BEGIN:VEVENT
UID:3b14b0c4-1944-11f0-86f7-0ee54ec18875
DTSTAMP:20250509T222305Z
SUMMARY:CDD Board Meeting - May 2025
LOCATION:The offices of Coastal Engineering\, 966 Candlelight Blvd\, Brooks
 ville\, FL 34601
URL;VALUE=URI:https://www.lakehideaway2cdd.com/calendar/7922575/cdd-board-m
 eeting-may-2025
DTSTART:20250516T170000Z
DTEND:20250516T180000Z
ATTACH;FILENAME=2025-05-16 Lake Hideaway II CDD Agenda.pdf;FMTTYPE=applicat
 ion/pdf:https://campussuite-storage.s3.amazonaws.com/prod/1559256/323d6aaa
 -10ba-11f0-9102-0affc1c2bc9d/2952082/13185384-2d24-11f0-8134-0a58a9feac02/
 file/2025-05-16 Lake Hideaway II CDD Agenda.pdf
END:VEVENT
END:VCALENDAR
