BEGIN:VCALENDAR
VERSION:2.0
PRODID:SchoolNow
CALSCALE:GREGORIAN
BEGIN:VEVENT
UID:2bf1dd42-1944-11f0-9737-0a58a9feac02
DTSTAMP:20250414T152143Z
SUMMARY:CDD Board Meeting - Apr. 2025
LOCATION:The offices of Coastal Engineering\, 966 Candlelight Blvd\, Brooks
 ville\, FL 34601
URL;VALUE=URI:https://www.lakehideaway2cdd.com/calendar/7922574/cdd-board-m
 eeting-apr-2025
DTSTART:20250418T170000Z
DTEND:20250418T180000Z
END:VEVENT
END:VCALENDAR
