BEGIN:VCALENDAR
VERSION:2.0
PRODID:SchoolNow
CALSCALE:GREGORIAN
BEGIN:VEVENT
UID:190b6c0c-1944-11f0-8b86-0a58a9feac02
DTSTAMP:20250415T184350Z
SUMMARY:CDD Board Meeting - Mar. 2025 - Cancelled
LOCATION:The offices of Coastal Engineering\, 966 Candlelight Blvd\, Brooks
 ville\, FL 34601
URL;VALUE=URI:https://www.lakehideaway2cdd.com/calendar/7922573/cdd-board-m
 eeting-mar-2025-cancelled
DTSTART:20250321T170000Z
DTEND:20250321T180000Z
END:VEVENT
END:VCALENDAR
