BEGIN:VCALENDAR
VERSION:2.0
PRODID:SchoolNow
CALSCALE:GREGORIAN
BEGIN:VEVENT
UID:094bc3fc-1944-11f0-8f99-0a58a9feac02
DTSTAMP:20250415T174412Z
SUMMARY:CDD Board Meeting - Feb. 2025
LOCATION:The offices of Coastal Engineering\, 966 Candlelight Blvd\, Brooks
 ville\, FL 34601
URL;VALUE=URI:https://www.lakehideaway2cdd.com/calendar/7922572/cdd-board-m
 eeting-feb-2025
DTSTART:20250221T180000Z
DTEND:20250221T190000Z
ATTACH;FILENAME=2025-02-21 Lake Hideaway II CDD Audit Committee Agenda.pdf;
 FMTTYPE=application/pdf:https://campussuite-storage.s3.amazonaws.com/prod/
 1559256/323d6aaa-10ba-11f0-9102-0affc1c2bc9d/2940921/080709a6-1a21-11f0-a9
 92-0affc7b21b5b/file/2025-02-21 Lake Hideaway II CDD Audit Committee Agend
 a.pdf
ATTACH;FILENAME=2025-02-21 Lake Hideaway II CDD LOE Agenda.pdf;FMTTYPE=appl
 ication/pdf:https://campussuite-storage.s3.amazonaws.com/prod/1559256/323d
 6aaa-10ba-11f0-9102-0affc1c2bc9d/2940920/080706a4-1a21-11f0-b39d-0affc7b21
 b5b/file/2025-02-21 Lake Hideaway II CDD LOE Agenda.pdf
ATTACH;FILENAME=2025-02-21 Lake Hideaway II CDD Regular Meeting Agenda.pdf;
 FMTTYPE=application/pdf:https://campussuite-storage.s3.amazonaws.com/prod/
 1559256/323d6aaa-10ba-11f0-9102-0affc1c2bc9d/2940919/0806c112-1a21-11f0-bf
 d4-0affc7b21b5b/file/2025-02-21 Lake Hideaway II CDD Regular Meeting Agend
 a.pdf
END:VEVENT
END:VCALENDAR
