BEGIN:VCALENDAR
VERSION:2.0
PRODID:SchoolNow
CALSCALE:GREGORIAN
BEGIN:VEVENT
UID:f0f97bd2-1943-11f0-b9ff-025f4825ecfb
DTSTAMP:20250415T174432Z
SUMMARY:CDD Board Meeting - Jan. 2025
LOCATION:The offices of Coastal Engineering\, 966 Candlelight Blvd\, Brooks
 ville\, FL 34601
URL;VALUE=URI:https://www.lakehideaway2cdd.com/calendar/7922571/cdd-board-m
 eeting-jan-2025
DTSTART:20250103T180000Z
DTEND:20250103T190000Z
ATTACH;FILENAME=2025-01-03 Lake Hideaway II CDD Organizational Meeting Agen
 da Package 4937-5962-9833-8.pdf;FMTTYPE=application/pdf:https://campussuit
 e-storage.s3.amazonaws.com/prod/1559256/323d6aaa-10ba-11f0-9102-0affc1c2bc
 9d/2940922/08070ae6-1a21-11f0-86a8-0affc7b21b5b/file/2025-01-03 Lake Hidea
 way II CDD Organizational Meeting Agenda Package 4937-5962-9833-8.pdf
END:VEVENT
END:VCALENDAR
